BEGIN:VCALENDAR
VERSION:2.0
PRODID:http://www.msecm.com
METHOD:PUBLISH
BEGIN:VEVENT
UID:11076942
ORGANIZER;CN="MSECM Austria Martin Heger":MAILTO:events@msecm.at
LOCATION:Vivax Hallenbad Mürzzuschlag Waldandacht 5 8680 Mürzzuschlag
SUMMARY:29. Trans-Semmering-Schwimmmeeting
DESCRIPTION:
CLASS:PUBLIC
DTSTART:20160430T000000
DTEND:20160430T235959
DTSTAMP:20260424T104625 +0200
END:VEVENT
CALSCALE:GREGORIAN
END:VCALENDAR
