BEGIN:VCALENDAR
VERSION:2.0
PRODID:http://www.msecm.com
METHOD:PUBLISH
BEGIN:VEVENT
UID:17060509
ORGANIZER;CN="MSECM Austria Martin Heger":MAILTO:events@msecm.at
LOCATION:AQUA SPORT CENTER GYOR (EYOF2017 POOL) Győr 9025 Bercsényi liget 108 9025 Ungarn
SUMMARY:VI. Gyõr SCITEC Swim Cup
DESCRIPTION:<ul> <li> <a href="/events/hun_gyorcup6_16/VI.GYORSWIMCUPINVITATION.pdf" target="_blank">Invitation (english as PDF)</a> </li> <li> <a href="/events/hun_gyorcup6_16/VI.GYORSWIMCUPMEGHIVO.pdf" target="_blank">Meghívó (magyar as PDF)</a> </li>  </ul>
CLASS:PUBLIC
DTSTART:20160302T000000
DTEND:20160305T235959
DTSTAMP:20260424T110400 +0200
END:VEVENT
CALSCALE:GREGORIAN
END:VCALENDAR
