BEGIN:VCALENDAR
VERSION:2.0
PRODID:http://www.msecm.com
METHOD:PUBLISH
BEGIN:VEVENT
UID:18913385
ORGANIZER;CN="MSECM Austria Ingo Witzmann":MAILTO:ingo.witzmann@msecm.com
LOCATION:Freibad Kapfenberg Brandlgasse 23 8605 Kapfenberg
SUMMARY:1. Internationales Kapfenberger Nachwuchs-Schwimmmeeting
DESCRIPTION:
CLASS:PUBLIC
DTSTART:20160625T000000
DTEND:20160626T235959
DTSTAMP:20260420T105103 +0200
END:VEVENT
CALSCALE:GREGORIAN
END:VCALENDAR
