BEGIN:VCALENDAR
VERSION:2.0
PRODID:http://www.msecm.com
METHOD:PUBLISH
BEGIN:VEVENT
UID:21173016
ORGANIZER;CN="MSECM Austria Martin Heger":MAILTO:events@msecm.at
LOCATION:Auster Graz Janzgasse 21 8020 Graz
SUMMARY:5. Int. Österr. Kurzbahnstaatsmeisterschaften 2017
DESCRIPTION:<ul class="fa-ul"> <li><i class="fa-li fa fa-external-link-square color-green"></i> <a href="/events/oekbm17/ausschreibung_de.pdf" target="_blank">Ausschreibung (deutsch PDF)</a> </li> <li><i class="fa-li fa fa-external-link-square color-green"></i> <a href="/events/oekbm17/ausschreibung_en.pdf" target="_blank">Invitation (english PDF)</a> </li> </ul>
CLASS:PUBLIC
DTSTART:20171207T000000
DTEND:20171210T235959
DTSTAMP:20260423T123204 +0200
END:VEVENT
CALSCALE:GREGORIAN
END:VCALENDAR
