BEGIN:VCALENDAR
VERSION:2.0
PRODID:http://www.msecm.com
METHOD:PUBLISH
BEGIN:VEVENT
UID:3596324
ORGANIZER;CN="MSECM Austria Martin Heger":MAILTO:events@msecm.at
LOCATION:Hallenbad Schwechat
SUMMARY:Int. SVS-Schwimmen Trophy 2016
DESCRIPTION:ACHTUNG Beginn am Samstag bereits um 0830 Uhr  <ul class="fa-ul"> <li><i class="fa-li fa fa-external-link-square"></i>Ausschreibung/Invitation 	<ul class="fa-ul"> 		<li><i class="fa-li fa fa-external-link-square color-green"></i> 			<a href="/events/svstrophy16/ausschreibung_de.pdf"  target="_blank">Deutsch (als PDF)</a> 		</li> 		<li><i class="fa-li fa fa-external-link-square color-green"></i> 			<a href="/events/svstrophy16/ausschreibung_hun.pdf"  target="_blank">Versenykiírás (as PDF)</a> 		</li> 		<li><i class="fa-li fa fa-external-link-square color-green"></i> 			<a href="/events/svstrophy16/ausschreibung_cze.pdf"  target="_blank">Pozvání (as PDF)</a> 		</li> 	</ul> </li> </ul>
CLASS:PUBLIC
DTSTART:20161112T000000
DTEND:20161113T235959
DTSTAMP:20260420T105103 +0200
END:VEVENT
CALSCALE:GREGORIAN
END:VCALENDAR
