BEGIN:VCALENDAR
VERSION:2.0
PRODID:http://www.msecm.com
METHOD:PUBLISH
BEGIN:VEVENT
UID:8269785
ORGANIZER;CN="MSECM Austria Martin Heger":MAILTO:events@msecm.at
LOCATION:Schulbad BG Rechte Kremszeile Rechte Kremszeile 54 3500 Krems
SUMMARY:NÖ Sportunion Landesmeisterschaften 2016
DESCRIPTION:
CLASS:PUBLIC
DTSTART:20161204T000000
DTEND:20161204T235959
DTSTAMP:20260424T145534 +0200
END:VEVENT
CALSCALE:GREGORIAN
END:VCALENDAR
