BEGIN:VCALENDAR
VERSION:2.0
PRODID:http://www.msecm.com
METHOD:PUBLISH
BEGIN:VEVENT
UID:21362590
ORGANIZER;CN="MSECM Austria Martin Heger":MAILTO:events@msecm.at
LOCATION:Drautalperle Spittal Am Bahndamm 14 9800 Spittal an der Drau
SUMMARY:35. Int. Schwimm-Meeting - Wappenschale der Stadt Spittal
DESCRIPTION:<ul class="fa-ul"> <li><i class="fa-li fa fa-external-link-square color-green"></i><a target="_blank" href="/events/wappenschalenmeeting17/ausschreibung_de.pdf">Ausschreibung (deutsch)</a> </li> <li><i class="fa-li fa fa-external-link-square color-green"></i><a target="_blank" href="/events/wappenschalenmeeting17/ausschreibung_en.pdf">Invitation (english)</a> </li> </ul>
CLASS:PUBLIC
DTSTART:20170325T000000
DTEND:20170326T235959
DTSTAMP:20260422T022502 +0200
END:VEVENT
CALSCALE:GREGORIAN
END:VCALENDAR
