BEGIN:VCALENDAR
VERSION:2.0
PRODID:http://www.msecm.com
METHOD:PUBLISH
BEGIN:VEVENT
UID:20456137
ORGANIZER;CN="MSECM Austria Martin Heger":MAILTO:events@msecm.at
LOCATION:AQUA SPORT CENTER GYOR (EYOF2017 POOL) Győr 9025 Bercsényi liget 108 9025 Ungarn
SUMMARY:I. SCITEC Győr Marathon
DESCRIPTION:
CLASS:PUBLIC
DTSTART:20170219T000000
DTEND:20170219T235959
DTSTAMP:20260420T105103 +0200
END:VEVENT
CALSCALE:GREGORIAN
END:VCALENDAR
