BEGIN:VCALENDAR
VERSION:2.0
PRODID:http://www.msecm.com
METHOD:PUBLISH
BEGIN:VEVENT
UID:21832809
ORGANIZER;CN="MSECM Austria Martin Heger":MAILTO:events@msecm.at
LOCATION:Auster Graz Janzgasse 21 8020 Graz
SUMMARY:Steirische Landes- und 4. Int. Steirische Mastersmeisterschaften 2018
DESCRIPTION:<!-- <font color=red>ENTWURF 23.06.2018 | 0747 Uhr</font> --> <ul class="fa-ul"> <li><i class="fa-li fa fa-external-link-square color-green"></i> <a href="/events/stlandes18/ausschreibung.pdf" target="_blank">Ausschreibung (deutsch PDF)</a> </li> <li><i class="fa-li fa fa-external-link-square color-green"></i> <a href="/events/stlandes18/ausschreibung_en.pdf" target="_blank">Invitation (english PDF)</a> </li> </ul>
CLASS:PUBLIC
DTSTART:20180629T000000
DTEND:20180701T235959
DTSTAMP:20260424T110412 +0200
END:VEVENT
CALSCALE:GREGORIAN
END:VCALENDAR
