BEGIN:VCALENDAR
VERSION:2.0
PRODID:http://www.msecm.com
METHOD:PUBLISH
BEGIN:VEVENT
UID:9680466
ORGANIZER;CN="MSECM Austria Florian Rott":MAILTO:post@msecm.at
LOCATION:Floridsdorferbad Franklinstraße 22 1210 Wien
SUMMARY:Offene Wiener Kurzbahnmeisterschaften der Allgemeinen – und Nachwuchsklassen 2019
DESCRIPTION:
CLASS:PUBLIC
DTSTART:20190301T000000
DTEND:20190303T235959
DTSTAMP:20260420T082736 +0200
END:VEVENT
CALSCALE:GREGORIAN
END:VCALENDAR
