BEGIN:VCALENDAR
VERSION:2.0
PRODID:http://www.msecm.com
METHOD:PUBLISH
BEGIN:VEVENT
UID:1745702
ORGANIZER;CN="MSECM Austria Martin Heger":MAILTO:events@msecm.at
LOCATION:BSFZ Südstadt Maria Enzersdorf
SUMMARY:Weihnachtsschwimmen der SU Südstadt 2018
DESCRIPTION:
CLASS:PUBLIC
DTSTART:20181215T000000
DTEND:20181215T235959
DTSTAMP:20260420T105119 +0200
END:VEVENT
CALSCALE:GREGORIAN
END:VCALENDAR
