BEGIN:VCALENDAR
VERSION:2.0
PRODID:http://www.msecm.com
METHOD:PUBLISH
BEGIN:VEVENT
UID:23543159
ORGANIZER;CN="MSECM Austria Martin Heger":MAILTO:events@msecm.at
LOCATION:Auster Graz Janzgasse 21 8020 Graz
SUMMARY:Österr. Hallenmeisterschaften der Nachwuchsklassen
DESCRIPTION:<!-- <font color="red">ENTWURF 08.03.2019  1958 Uhr</font> -->
CLASS:PUBLIC
DTSTART:20190315T000000
DTEND:20190317T235959
DTSTAMP:20260424T171329 +0200
END:VEVENT
CALSCALE:GREGORIAN
END:VCALENDAR
