BEGIN:VCALENDAR
VERSION:2.0
PRODID:http://www.msecm.com
METHOD:PUBLISH
BEGIN:VEVENT
UID:19492144
ORGANIZER;CN="MSECM Austria Martin Heger":MAILTO:events@msecm.at
LOCATION:Hallenbad Stockerau Weg zum Hallenbad 1 2000 Stockerau
SUMMARY:13. NÖ Kids Cup 2018/2019 - 3. Runde
DESCRIPTION:<!-- <font color="red">ENTWURF 19.02.2019  1957 Uhr</font> -->
CLASS:PUBLIC
DTSTART:20190223T000000
DTEND:20190223T235959
DTSTAMP:20260424T110427 +0200
END:VEVENT
CALSCALE:GREGORIAN
END:VCALENDAR
