BEGIN:VCALENDAR
VERSION:2.0
PRODID:http://www.msecm.com
METHOD:PUBLISH
BEGIN:VEVENT
UID:11481484
ORGANIZER;CN="MSECM Austria Martin Heger":MAILTO:events@msecm.at
LOCATION:BSFZ Südstadt Liese-Prokop-Platz 1 2344 Maria Enzersdorf
SUMMARY:NÖ Landesmeisterschaften 2019 - 1. Teil
DESCRIPTION:<!-- <font color="red">ENTWURF 18.05.2019  0547 Uhr</font> -->
CLASS:PUBLIC
DTSTART:20190525T000000
DTEND:20190525T235959
DTSTAMP:20260422T063130 +0200
END:VEVENT
CALSCALE:GREGORIAN
END:VCALENDAR
