BEGIN:VCALENDAR
VERSION:2.0
PRODID:http://www.msecm.com
METHOD:PUBLISH
BEGIN:VEVENT
UID:2025408
ORGANIZER;CN="MSECM Austria Martin Heger":MAILTO:events@msecm.at
LOCATION:Stadtbad Dornbirn Schillerstraße 18 6850 Dornbirn
SUMMARY:31. Int. Österreichische Mastersmeisterschaften
DESCRIPTION:<!-- <font color=red>ENTWURF 20.09.2018  1948 Uhr</font><br><br> --> <font color=red>ACHTUNG - Informationsblatt zur Abendveranstaltung  <a href="/events/oemasters19/abendveranstaltung.pdf" target="blank">Hier öffnen!</a></font> 
CLASS:PUBLIC
DTSTART:20190928T000000
DTEND:20190929T235959
DTSTAMP:20260422T042654 +0200
END:VEVENT
CALSCALE:GREGORIAN
END:VCALENDAR
