BEGIN:VCALENDAR
VERSION:2.0
PRODID:http://www.msecm.com
METHOD:PUBLISH
BEGIN:VEVENT
UID:10587191
ORGANIZER;CN="MSECM Austria Ingo Witzmann":MAILTO:ingo.witzmann@msecm.at
LOCATION:Hallenbad Kapfenberg Johann-Brandl-Gasse 23 8605 Kapfenberg
SUMMARY:ASKÖ STMK Landesmeisterschaften 2019
DESCRIPTION:<!-- <font color="red">DRAFT VERSION  03.04.2019  1941</font></p><br> --> <!-- <ul class="fa-ul"> <li><i class="fa-li fa fa-external-link-square color-green"></i><a href="/events/staskoelm19/melderg.pdf" target="_blank" class="text">Meldeergebnis</a> </li> <li><i class="fa-li fa fa-external-link-square color-green"></i><a href="/events/staskoelm19/zeitplan_25sek.pdf" target="_blank" class="text">Zeitplan</a> </li> </ul> -->
CLASS:PUBLIC
DTSTART:20190406T000000
DTEND:20190406T235959
DTSTAMP:20260424T110529 +0200
END:VEVENT
CALSCALE:GREGORIAN
END:VCALENDAR
