BEGIN:VCALENDAR
VERSION:2.0
PRODID:http://www.msecm.com
METHOD:PUBLISH
BEGIN:VEVENT
UID:10467676
ORGANIZER;CN="MSECM Austria Martin Heger":MAILTO:events@msecm.at
LOCATION:BSFZ Südstadt Liese-Prokop-Platz 1 2344 Maria Enzersdorf
SUMMARY:Abschlussschwimmen der SU Südstadt 2019
DESCRIPTION:
CLASS:PUBLIC
DTSTART:20190623T000000
DTEND:20190623T235959
DTSTAMP:20260423T163123 +0200
END:VEVENT
CALSCALE:GREGORIAN
END:VCALENDAR
