BEGIN:VCALENDAR
VERSION:2.0
PRODID:http://www.msecm.com
METHOD:PUBLISH
BEGIN:VEVENT
UID:16220118
ORGANIZER;CN="MSECM Austria Martin Heger":MAILTO:events@msecm.at
LOCATION:Hallenbad Schwechat Plankenwehrstraße 13 2320 Schwechat
SUMMARY:25. ASKÖ NÖ Hallenmeisterschaften im Schwimmen
DESCRIPTION:<!-- <font color="red">ENTWURF 22.09.2019  1940 Uhr</font> -->
CLASS:PUBLIC
DTSTART:20190928T000000
DTEND:20190928T235959
DTSTAMP:20260420T105104 +0200
END:VEVENT
CALSCALE:GREGORIAN
END:VCALENDAR
