BEGIN:VCALENDAR
VERSION:2.0
PRODID:http://www.msecm.com
METHOD:PUBLISH
BEGIN:VEVENT
UID:21354239
ORGANIZER;CN="MSECM Austria Martin Heger":MAILTO:events@msecm.at
LOCATION:BSFZ Südstadt Liese-Prokop-Platz 1 2344 Maria Enzersdorf
SUMMARY:Öster. Mannschaftswettkämpfe der Schülerklasse
DESCRIPTION:<!-- <font color="red">ACHTUNG Es gibt eigene Unterlagen für die jeweiligen Veranstaltungsorte in Maria Enzersdorf (Ost) und Linz (West).<br><br>Mit Abgabe der Meldung hat jeder teilnehmende Verein einen Kampfrichter zu nominieren!</font> -->  <ul class="fa-ul"> <li><i class="fa-li fa fa-external-link-square"></i><b><font color="red">WICHTIGE INFORMATIONEN</font></b></li>  <ul class="fa-ul"> <li><i class="fa-li fa fa-external-link-square color-green"></i><a class="hover-effect" href="/events/oeschuelermann20/2020_COVID_19_PR%C3%84VENTIONSKONZEPT_020720.pdf" target="_blank"><b>COVID-19 Präventionskonzept</b></a></li> <li><i class="fa-li fa fa-external-link-square color-green"></i><a class="hover-effect" href="/events/oeschuelermann20/2020_COVID_19_DETAILPR%C3%84VENTIONSKONZEPT_110720.pdf" target="_blank"><b>COVID-19 Detailspräventionskonzept</b></a></li> <li><i class="fa-li fa fa-external-link-square color-green"></i><a class="hover-effect" href="/events/oeschuelermann20/zeitplan_25sek.pdf" target="_blank">Zeitplan</a></li> </ul> </li> </ul> <br>
CLASS:PUBLIC
DTSTART:20200711T000000
DTEND:20200711T235959
DTSTAMP:20260422T094715 +0200
END:VEVENT
CALSCALE:GREGORIAN
END:VCALENDAR
