BEGIN:VCALENDAR
VERSION:2.0
PRODID:http://www.msecm.com
METHOD:PUBLISH
BEGIN:VEVENT
UID:6908335
ORGANIZER;CN="MSECM Austria Florian Rott":MAILTO:post@msecm.at
LOCATION:Stadthallenbad Hütteldorferstraße 2h1150 Wien
SUMMARY:CANCELLED Vienna International Swim Meet'20 powered by HEAD SWIMMING
DESCRIPTION:
CLASS:PUBLIC
DTSTART:20200521T000000
DTEND:20200524T235959
DTSTAMP:20260426T040122 +0200
END:VEVENT
CALSCALE:GREGORIAN
END:VCALENDAR
