BEGIN:VCALENDAR
VERSION:2.0
PRODID:http://www.msecm.com
METHOD:PUBLISH
BEGIN:VEVENT
UID:14048022
ORGANIZER;CN="MSECM Austria Martin Heger":MAILTO:events@msecm.at
LOCATION:Vivax Hallenbad Mürzzuschlag Waldandacht 5 8680 Mürzzuschlag
SUMMARY:CANCELLED 33. Trans-Semmering-Schwimmmeeting
DESCRIPTION:<!-- <font color="red">ENTWURF 26.04.2019  1539</font> -->
CLASS:PUBLIC
DTSTART:20200509T000000
DTEND:20200509T235959
DTSTAMP:20260420T105120 +0200
END:VEVENT
CALSCALE:GREGORIAN
END:VCALENDAR
