BEGIN:VCALENDAR
VERSION:2.0
PRODID:http://www.msecm.com
METHOD:PUBLISH
BEGIN:VEVENT
UID:21381118
ORGANIZER;CN="MSECM Austria Martin Heger":MAILTO:events@msecm.at
LOCATION:BSFZ Südstadt Liese-Prokop-Platz 1 2344 Maria Enzersdorf
SUMMARY:CANCELLED 3. Int. Masters-Meeting der SU Mödling mit int. Österreichischer Mastersmeisterschaft
DESCRIPTION:<font color="red">Aufgrund der aktuellen Situation rund um SARS-CoV-2 / COVID-19 wird die Veranstaltung leider abgesagt!</font>   <!-- Sehr geehrte Damen sehr geehrte Herren liebe SchwimmerInnen liebe TrainerInnen<br> <br> aufgrund der hohen Anzahl an TeilnehmerInnen in den Bewerben 23 und 24 (1500m Freistil Damen und Herren) müssen wir die Beginn-Zeit des 2. Wettkampfabschnitts am Nachmittag VORVERLEGEN. <br><br> <font color=#FF0000><b> NEU<br> EINSCHWIMMEN 12 – 12.45 Uhr<br> BEGINN 2. ABSCHNITT 13 Uhr<br> </b></font> <br> Vielen Dank für Euer Verständnis wir freuen uns auf einen spannenden Wettkampf wir freuen uns auf Euch! <br><br> Dear Ladies dear Gentlemen dear Swimmers and Trainers! <br> Due to a high number of participants in event 23 and 24 (1500 Freestyle Women and Men) we have to shift the schedule of the 2nd Session in the afternoon. <br><br> <font color=#FF0000><b> NEW<br> WARM – UP 12 – 12.45 p.m.<br> START OF THE SESSION 1 p.m. <br> </b></font> <br> Thank you for your understanding we are looking forward to meet you all at our competition! For further questions please don´t hesitate to contact us. <br> Liebe Grüße<br> Kind Regards<br> <br><br> Veronika Stefanik <br><br>  Dr. Veronika Stefanik<br> Schwimmunion Mödling<br> Präsidentin/Head of the board<br> www.sum.at<br> veronika.stefanik@sum.at<br> Tel 06804063439<br> <br><br><br> --> <!-- <font color=#FF0000>ENTWURF 11.05.2019 | 1417 Uhr</font> --> <br><br> <ul class="fa-ul"> <li><i class="fa-li fa fa-external-link-square color-green"></i> <a href="/events/summasters20/ausschreibung_de.pdf" target="_blank">Ausschreibung (deutsch PDF)</a> </li> <li><i class="fa-li fa fa-external-link-square color-green"></i> <a href="/events/summasters20/ausschreibung_en.pdf" target="_blank">Invitation (english PDF)</a> </li> <!-- <li><i class="fa-li fa fa-external-link-square color-green"></i> <a href="/events/summeeting17/ausschreibung_hu.pdf" target="_blank">Versenykiírás (magyar PDF)</a> </li> -->  <li><i class="fa-li fa fa-external-link-square color-green"></i> <a href="/events/summasters19/masters.pdf" target="_blank">Information Abendveranstaltung</a> </li> </ul>
CLASS:PUBLIC
DTSTART:20200509T000000
DTEND:20200509T235959
DTSTAMP:20260423T125834 +0200
END:VEVENT
CALSCALE:GREGORIAN
END:VCALENDAR
