BEGIN:VCALENDAR
VERSION:2.0
PRODID:http://www.msecm.com
METHOD:PUBLISH
BEGIN:VEVENT
UID:3413693
ORGANIZER;CN="MSECM Austria Martin Heger":MAILTO:events@msecm.at
LOCATION:Universitäts- und Landessportzentrum Rif Hartmannweg 4–6 5400 Hallein
SUMMARY:CANCELLED 37. Int. Schwimm-Meeting der SU Generali Salzburg
DESCRIPTION: <font color="red">NEUES DATUM 16.-17.10.2021</font>  <!-- <font color="red">ENTWURF 15.10.2019  0850 Uhr</font> --> <ul class="fa-ul"> <li><i class="fa-li fa fa-external-link-square color-green"></i> <a href="/events/sugenerali20/ausschreibung.pdf" target="_blank">Ausschreibung (deutsch PDF)</a> </li> <li><i class="fa-li fa fa-external-link-square color-green"></i> <a href="/events/sugenerali20/ausschreibung_en.pdf" target="_blank">Invitation (english PDF)</a> </li> </ul>
CLASS:PUBLIC
DTSTART:20201017T000000
DTEND:20201018T235959
DTSTAMP:20260420T042754 +0200
END:VEVENT
CALSCALE:GREGORIAN
END:VCALENDAR
