BEGIN:VCALENDAR
VERSION:2.0
PRODID:http://www.msecm.com
METHOD:PUBLISH
BEGIN:VEVENT
UID:3809923
ORGANIZER;CN="MSECM Austria Florian Rott":MAILTO:post@msecm.at
LOCATION:Floridsdorferbad Franklinstraße 22 1210 Wien
SUMMARY:CANCELLED Lagen Cup 2020 Runde 5
DESCRIPTION:
CLASS:PUBLIC
DTSTART:20201122T000000
DTEND:20201122T235959
DTSTAMP:20260424T110355 +0200
END:VEVENT
CALSCALE:GREGORIAN
END:VCALENDAR
