BEGIN:VCALENDAR
VERSION:2.0
PRODID:http://www.msecm.com
METHOD:PUBLISH
BEGIN:VEVENT
UID:959975
ORGANIZER;CN="MSECM Austria Florian Rott":MAILTO:post@msecm.at
LOCATION:Floridsdorferbad Franklinstraße 22 1210 Wien
SUMMARY:CANCELLED Wiener Cup 2020 Runde 4
DESCRIPTION:<!--<b><font color="red">Geänderter Beginn<br> Einschwimmen 1200 Uhr<br> Wettkampfbeginn 1300 Uhr</font></b>-->
CLASS:PUBLIC
DTSTART:20201025T000000
DTEND:20201025T235959
DTSTAMP:20260420T105119 +0200
END:VEVENT
CALSCALE:GREGORIAN
END:VCALENDAR
