BEGIN:VCALENDAR
VERSION:2.0
PRODID:http://www.msecm.com
METHOD:PUBLISH
BEGIN:VEVENT
UID:20391025
ORGANIZER;CN="MSECM Austria Martin Heger":MAILTO:events@msecm.at
LOCATION:Badezentrum Traun Trauner Straße 25b 4050 Traun
SUMMARY:CANCELLED OÖ Schüler- und Jugendmehrlagenwettkämpfe 2020
DESCRIPTION:<font color="red">Sehr geehrte Vereinsvertreterinnen sehr geehrte Vereinsvertreter<br><br>   leider müssen wir auf Grund der aktuellen Situation die im April und Anfang Mai geplanten Wettkämpfe absagen bzw. auf unbestimmte Zeit verschieben.<br><br>   Mit sportlichen Grüßen<br><br>   Franz Pühringer Schriftführer OÖLSV</font>  <!-- <br><br> <b>Der Start des Nachmittagabschnitts kann abhängig von der Dauer des Vormittags ev. nach hinten geschoben werden. Der genaue Startzeitpunkt von Abschnitt 2 wird vor Ort entschieden werden.</b> -->
CLASS:PUBLIC
DTSTART:20200509T000000
DTEND:20200509T235959
DTSTAMP:20260424T110400 +0200
END:VEVENT
CALSCALE:GREGORIAN
END:VCALENDAR
