BEGIN:VCALENDAR
VERSION:2.0
PRODID:http://www.msecm.com
METHOD:PUBLISH
BEGIN:VEVENT
UID:20020938
ORGANIZER;CN="MSECM Austria Martin Heger":MAILTO:events@msecm.at
LOCATION:Strandbad Gmunden Dr. Franz-Thomas-Strasse 13 4810 Gmunden
SUMMARY:CANCELLED OÖ Landesmeisterschaften 2020
DESCRIPTION:<!-- <font color=red>Entwurf  21.06.2019 1707</font> --> <!-- <ul class="fa-ul"> <li><i class="fa-li fa fa-external-link-square color-green"></i> <a target="_blank" href="/events/ooelandes16/protokoll1.pdf">Protokoll 1. Tag</a> </li> </ul> -->
CLASS:PUBLIC
DTSTART:20200627T000000
DTEND:20200628T235959
DTSTAMP:20260423T123343 +0200
END:VEVENT
CALSCALE:GREGORIAN
END:VCALENDAR
