BEGIN:VCALENDAR
VERSION:2.0
PRODID:http://www.msecm.com
METHOD:PUBLISH
BEGIN:VEVENT
UID:21300826
ORGANIZER;CN="MSECM Austria Martin Heger":MAILTO:events@msecm.at
LOCATION:Stadionbad Wolfsberg Stadionbadstraße 2 9400 Wolfsberg
SUMMARY:CANCELLED 9. International Walter Mörtl Memorial
DESCRIPTION:<font color="red"> ACHTUNG Aufgrund der COVID-19 Bestimmungen im ist die Durchführung im Freibad Wolfsberg leider heuer nicht möglich. Wir hoffen euch nächstes Jahr wieder beim Walter Mörtl Memorial begrüßen zu können! <br><br> ATTENTION Due to the COVID-19 regulations in the outdoor pool Wolfsberg is unfortunately not possible this year. We hope to see you again next year at the Walter Mörtl Memorial! </font>   <ul class="fa-ul"> <li><i class="fa-li fa fa-external-link-square color-green"></i><a target="_blank" href="/events/waltermoertl21/ausschreibung.pdf">Ausschreibung (deutsch PDF)</a> </li> <li><i class="fa-li fa fa-external-link-square color-green"></i> <a target="_blank" href="/events/waltermoertl21/ausschreibung_en.pdf">Invitation (english PDF)</a> </li> </ul>
CLASS:PUBLIC
DTSTART:20210529T000000
DTEND:20210529T235959
DTSTAMP:20260420T105138 +0200
END:VEVENT
CALSCALE:GREGORIAN
END:VCALENDAR
