BEGIN:VCALENDAR
VERSION:2.0
PRODID:http://www.msecm.com
METHOD:PUBLISH
BEGIN:VEVENT
UID:19886696
ORGANIZER;CN="MSECM Austria Martin Heger":MAILTO:events@msecm.at
LOCATION:BSFZ Südstadt Liese-Prokop-Platz 1 2344 Maria Enzersdorf
SUMMARY:Dual Meet Austria - Switzerland
DESCRIPTION:<!-- <font color="red">ACHTUNG Es gibt eigene Unterlagen für die jeweiligen Veranstaltungsorte in Maria Enzersdorf (Ost) und Linz (West).<br><br>Mit Abgabe der Meldung hat jeder teilnehmende Verein einen Kampfrichter zu nominieren!</font> -->
CLASS:PUBLIC
DTSTART:20210501T000000
DTEND:20210502T235959
DTSTAMP:20260420T105104 +0200
END:VEVENT
CALSCALE:GREGORIAN
END:VCALENDAR
