BEGIN:VCALENDAR
VERSION:2.0
PRODID:http://www.msecm.com
METHOD:PUBLISH
BEGIN:VEVENT
UID:16793133
ORGANIZER;CN="MSECM Austria Martin Heger":MAILTO:events@msecm.at
LOCATION:Citysplash Handel-Mazzetti-Straße 2 3100 St. Pölten
SUMMARY:Österreichische Meisterschaften der Nachwuchsklassen 2021
DESCRIPTION:<!-- <font color="red">ACHTUNG  Der Zeitplan für Sonntag wurde wetterbedingt geändert das Einschwimmen beginnt um 1330 Uhr die Finalläufe starten um 1500 Uhr</font> --> <!-- <font color="red">ENTWURF  22.07.2019 2304 Uhr</font> -->  <ul class="fa-ul"> <li><i class="fa-li fa fa-external-link-square"></i>COVID-19 Informationen</li> <ul class="fa-ul"> <li><i class="fa-li fa fa-external-link-square color-green"></i><a href="/events/oenachwuchs21/202100702_COVID_Detail_%C3%96JSM_StP%C3%B6lten.pdf" target="_blank">COVID-19 Konzept</a> </li> <li><i class="fa-li fa fa-external-link-square color-green"></i><a href="/events/oenachwuchs21/INFO%20%C3%96STM.pdf" target="_blank">Info für Vereine</a> </li> <li><i class="fa-li fa fa-external-link-square color-green"></i><a href="/events/oenachwuchs21/%C3%96STM%20Jugend%20ESV%20Covid%20test%20Formular.pdf" target="_blank">Test Check Formular (PDF)</a> </li> <li><i class="fa-li fa fa-external-link-square color-green"></i><a href="/events/oenachwuchs21/%C3%96STM%20Jugend%20ESV%20Covid%20test%20Formular.xls" target="_blank">Test Check Formular (XLS)</a> </li> </ul> </ul>  
CLASS:PUBLIC
DTSTART:20210722T000000
DTEND:20210725T235959
DTSTAMP:20260424T085154 +0200
END:VEVENT
CALSCALE:GREGORIAN
END:VCALENDAR
