BEGIN:VCALENDAR
VERSION:2.0
PRODID:http://www.msecm.com
METHOD:PUBLISH
BEGIN:VEVENT
UID:2507676
ORGANIZER;CN="MSECM Austria Florian Rott":MAILTO:wien.meldungen@msecm.at
LOCATION:Floridsdorferbad Franklinstraße 22 1210 Wien
SUMMARY:08th Vienna International Masters Championships
DESCRIPTION:<ul class="fa-ul"> <li><i class="fa-li fa fa-external-link-square"></i><font color="red">WICHTIGE INFORMATIONEN</font></li> <ul class="fa-ul"> <li><i class="fa-li fa fa-external-link-square color-green"></i><a class="hover-effect" href="/events/wlsv/masters2021/Präventionskonzept%20Vienna%20Masters%202021_v6.pdf" target="_blank">COVID-19 Präventionskonzept</a></li>  <li><i class="fa-li fa fa-external-link-square color-green"></i><a class="hover-effect" href="/events/wlsv/masters2021/Covid Check Formular Vienna Masters 2021_v2.docx" target="_blank">Check Formular (DOCX)</a></li>  <li><i class="fa-li fa fa-external-link-square color-green"></i><b><a class="hover-effect" href="/events/wlsv/masters2021/Informationsblatt_Zusatzmaßnahmen_Vienna_Masters_2021_v1_DE.pdf" target="_blank"><font color="red">ZUSATZINFORMATIONEN (Deutsch)</font></a></b></li> <li><i class="fa-li fa fa-external-link-square color-green"></i><b><a class="hover-effect" href="/events/wlsv/masters2021/Informationsblatt_Zusatzmaßnahmen_Vienna_Masters_2021_v1_EN.pdf" target="_blank"><font color="red">ADDITIONAL INFORMATION (Englisch)</font></a></b></li> </ul> </li>  </ul>
CLASS:PUBLIC
DTSTART:20211120T000000
DTEND:20211121T235959
DTSTAMP:20260421T125517 +0200
END:VEVENT
CALSCALE:GREGORIAN
END:VCALENDAR
