BEGIN:VCALENDAR
VERSION:2.0
PRODID:http://www.msecm.com
METHOD:PUBLISH
BEGIN:VEVENT
UID:15314666
ORGANIZER;CN="MSECM Austria Florian Rott":MAILTO:wien.meldungen@msecm.at
LOCATION:Hallenbad Floridsdorf Franklinstraße 22 1210 Wien
SUMMARY:Wiener Cup 2021 Herbst 2
DESCRIPTION:
CLASS:PUBLIC
DTSTART:20211017T000000
DTEND:20211017T235959
DTSTAMP:20260424T201641 +0200
END:VEVENT
CALSCALE:GREGORIAN
END:VCALENDAR
