BEGIN:VCALENDAR
VERSION:2.0
PRODID:http://www.msecm.com
METHOD:PUBLISH
BEGIN:VEVENT
UID:22661919
ORGANIZER;CN="MSECM Austria Martin Heger":MAILTO:events@msecm.at
LOCATION:BSFZ Südstadt Liese-Prokop-Platz 1 2344 Maria Enzersdorf
SUMMARY:CANCELLED Sportunion Bundesmeisterschaften 2021
DESCRIPTION:<!-- <font color="red">Entwurf  26.10.2019  0658 Uhr</font> -->
CLASS:PUBLIC
DTSTART:20211219T000000
DTEND:20211219T235959
DTSTAMP:20260422T082609 +0200
END:VEVENT
CALSCALE:GREGORIAN
END:VCALENDAR
