BEGIN:VCALENDAR
VERSION:2.0
PRODID:http://www.msecm.com
METHOD:PUBLISH
BEGIN:VEVENT
UID:4380008
ORGANIZER;CN="MSECM Austria Martin Heger":MAILTO:events@msecm.at
LOCATION:Stadionbad Wolfsberg Stadionbadstraße 2 9400 Wolfsberg
SUMMARY:10. International Walter Mörtl Memorial
DESCRIPTION:<!-- <ul class="fa-ul"> <li><i class="fa-li fa fa-external-link-square color-green"></i><a target="_blank" href="/events/waltermoertl21/ausschreibung.pdf">Ausschreibung (deutsch PDF)</a> </li> <li><i class="fa-li fa fa-external-link-square color-green"></i> <a target="_blank" href="/events/waltermoertl21/ausschreibung_en.pdf">Invitation (english PDF)</a> </li> </ul> -->
CLASS:PUBLIC
DTSTART:20220521T000000
DTEND:20220521T235959
DTSTAMP:20260421T212826 +0200
END:VEVENT
CALSCALE:GREGORIAN
END:VCALENDAR
