BEGIN:VCALENDAR
VERSION:2.0
PRODID:http://www.msecm.com
METHOD:PUBLISH
BEGIN:VEVENT
UID:11884352
ORGANIZER;CN="MSECM Austria Ingo Witzmann":MAILTO:ingo.witzman@msecm.at
LOCATION:Outdoor Pool Kapfenberg Brandlgasse 23 8605 Kapfenberg
SUMMARY:6. Int. Kapfenberger Youth Swim Meet
DESCRIPTION: <font color="red">ACHTUNG der Wettkampf wird in einem Abschnitt durchgeführt!</font></p> <font color="red">ATTENTION the competition will be held in one section!</font></p><br>  <ul class="fa-ul"> <li><i class="fa-li fa fa-external-link-square color-green"></i><a href="/events/stkindermeeting22/ausschreibung.pdf" target="_blank" class="text">Ausschreibung (Deutsch pdf)</a> </li> <li><i class="fa-li fa fa-external-link-square color-green"></i> <a class="text" target="_blank" href="/events/stkindermeeting22/invitation.pdf">Invitation (English pdf)</a> </li> <!-- <li><i class="fa-li fa fa-external-link-square color-green"></i> <a class="text" target="_blank" href="/events/stkindermeeting22/zeitplan_25sek.pdf">Time table (English pdf)</a> </li> --> </ul>
CLASS:PUBLIC
DTSTART:20220709T000000
DTEND:20220709T235959
DTSTAMP:20260422T092414 +0200
END:VEVENT
CALSCALE:GREGORIAN
END:VCALENDAR
