BEGIN:VCALENDAR
VERSION:2.0
PRODID:http://www.msecm.com
METHOD:PUBLISH
BEGIN:VEVENT
UID:21740652
ORGANIZER;CN="MSECM Austria Martin Heger":MAILTO:events@msecm.at
LOCATION:Hallenbad Stockerau Weg zum Hallenbad 1 2000 Stockerau
SUMMARY:16. NÖ Kids Cup 2022/2023 - 2. Runde
DESCRIPTION:<!-- <font color="red">ENTWURF 15.02.2020  1432 Uhr</font> --> <!-- <ul class="fa-ul"> <li><i class="fa-li fa fa-external-link-square"></i><font color="red">WICHTIGE INFORMATIONEN</font></li> <ul class="fa-ul"> <li><i class="fa-li fa fa-external-link-square color-green"></i><a class="hover-effect" href="/events/noekidscup2202/COVID-19-Pr%C3%A4ventionskonzept%2015_NOE%20Kids-Cup_2022%20Stockerau.pdf" target="_blank">COVID-19 Konzept</a></li> <li><i class="fa-li fa fa-external-link-square color-green"></i><a class="hover-effect" href="/events/noekidscup2202/Covid-Check-Liste%20Kids-Cup%202022%20Stockerau.xlsx" target="_blank">COVID-19 Check Liste</a></li>   </ul> </li> </ul> -->
CLASS:PUBLIC
DTSTART:20221113T000000
DTEND:20221113T235959
DTSTAMP:20260421T164554 +0200
END:VEVENT
CALSCALE:GREGORIAN
END:VCALENDAR
