BEGIN:VCALENDAR
VERSION:2.0
PRODID:http://www.msecm.com
METHOD:PUBLISH
BEGIN:VEVENT
UID:11024138
ORGANIZER;CN="MSECM Austria Florian Rott":MAILTO:wien.meldungen@msecm.at
LOCATION:Hallenbad Floridsdorf Franklinstraße 22 1210 Wien
SUMMARY:Wiener Cup 2023 Runde 1
DESCRIPTION:
CLASS:PUBLIC
DTSTART:20230115T000000
DTEND:20230115T235959
DTSTAMP:20260424T110427 +0200
END:VEVENT
CALSCALE:GREGORIAN
END:VCALENDAR
