BEGIN:VCALENDAR
VERSION:2.0
PRODID:http://www.msecm.com
METHOD:PUBLISH
BEGIN:VEVENT
UID:19029196
ORGANIZER;CN="MSECM Austria Florian Rott":MAILTO:wien.meldungen@msecm.at
LOCATION:Stadionbad Wien Meiereistraße 7 1020 Wien
SUMMARY:Wiener Cup 2023 Runde 3
DESCRIPTION:<b style="colorred">ACHTUNG  NEU Wettkampffolge und Beginnzeiten</b><br> <ul> <li>Session 3 Wiener Cup Runde 3 <b>Herren</b></li> <ul><li>Treffpunkt und Schlüsselausgabe an die Vereine     1315</li> <li>Einschwimmen                                                          1330 – 1400</li> <li>Wettkampf                                                                1405 – 1535 <li>Verlassen der Halle und Rückgabe Schlüssel bis       1600</li></ul>   <li>Session 4 Wiener Cup Runde 3 <b>Damen</b></li> <ul><li>Treffpunkt und Schlüsselausgabe an die Vereine     1600</li> <li>Einschwimmen                                                          1615 – 1645</li> <li>Wettkampf                                                                1650 – 1850</li> <li>Verlassen der Halle und Rückgabe Schlüssel bis       1910</li></ul> </ul> 
CLASS:PUBLIC
DTSTART:20230325T000000
DTEND:20230325T235959
DTSTAMP:20260424T110412 +0200
END:VEVENT
CALSCALE:GREGORIAN
END:VCALENDAR
