BEGIN:VCALENDAR
VERSION:2.0
PRODID:http://www.msecm.com
METHOD:PUBLISH
BEGIN:VEVENT
UID:23560882
ORGANIZER;CN="MSECM Austria Martin Heger":MAILTO:kidscup.tirol@msecm.at
LOCATION:Alpenbad Leutasch Weidach 275 6105 Leutasch
SUMMARY:ASVÖ-KIDS SWIM CUP 2023/24 - 1. Runde
DESCRIPTION:<!-- <font color="red">ENTWURF 30.01.2019  1008 Uhr</font> -->
CLASS:PUBLIC
DTSTART:20231125T000000
DTEND:20231125T235959
DTSTAMP:20260425T121806 +0200
END:VEVENT
CALSCALE:GREGORIAN
END:VCALENDAR
