BEGIN:VCALENDAR
VERSION:2.0
PRODID:http://www.msecm.com
METHOD:PUBLISH
BEGIN:VEVENT
UID:4291146
ORGANIZER;CN="MSECM Austria Martin Heger":MAILTO:events@msecm.at
LOCATION:Städtisches Sommerbad St. Pölten
SUMMARY:Festwochen-Schwimm-Meeting 2013
DESCRIPTION:<p><span style="color rgb(0 0 255)"><br /> </span></p>
CLASS:PUBLIC
DTSTART:20130602T000000
DTEND:20130602T235959
DTSTAMP:20260421T123054 +0200
END:VEVENT
CALSCALE:GREGORIAN
END:VCALENDAR
