BEGIN:VCALENDAR
VERSION:2.0
PRODID:http://www.msecm.com
METHOD:PUBLISH
BEGIN:VEVENT
UID:20682810
ORGANIZER;CN="MSECM Austria Martin Heger":MAILTO:events@msecm.at
LOCATION:Städtisches Sommerbad St. Pölten
SUMMARY:64. Österreichische Staatsmeisterschaften<br>und Juniorenmeisterschaften 2009
DESCRIPTION:
CLASS:PUBLIC
DTSTART:20090806T000000
DTEND:20090809T235959
DTSTAMP:20260424T014117 +0200
END:VEVENT
CALSCALE:GREGORIAN
END:VCALENDAR
