BEGIN:VCALENDAR
VERSION:2.0
PRODID:http://www.msecm.com
METHOD:PUBLISH
BEGIN:VEVENT
UID:13095556
ORGANIZER;CN="MSECM Austria Martin Heger":MAILTO:events@msecm.at
LOCATION:Drautalperle Spittal/Drau
SUMMARY:33. Int. Schwimm-Meeting - Wappenschale der Stadt Spittal
DESCRIPTION:<ul>     <li><a href="/events/wappenschalenmeeting15/ausschreibung.pdf" target="_blank">Ausschreibung (deutsch)</a></li>     <li><a href="/events/wappenschalenmeeting15/ausschreibung_en.pdf" target="_blank">Invitation (english)</a></li> </ul>
CLASS:PUBLIC
DTSTART:20150321T000000
DTEND:20150322T235959
DTSTAMP:20260422T031612 +0200
END:VEVENT
CALSCALE:GREGORIAN
END:VCALENDAR
