BEGIN:VCALENDAR
VERSION:2.0
PRODID:http://www.msecm.com
METHOD:PUBLISH
BEGIN:VEVENT
UID:3380466
ORGANIZER;CN="MSECM Austria Martin Heger":MAILTO:events@msecm.at
LOCATION:Sportoase Höttinger Au Innsbruck
SUMMARY:Österr. Hallenmeisterschaften der Nachwuchsklassen
DESCRIPTION:
CLASS:PUBLIC
DTSTART:20150313T000000
DTEND:20150315T235959
DTSTAMP:20260419T201837 +0200
END:VEVENT
CALSCALE:GREGORIAN
END:VCALENDAR
