BEGIN:VCALENDAR
VERSION:2.0
PRODID:http://www.msecm.com
METHOD:PUBLISH
BEGIN:VEVENT
UID:7110056
ORGANIZER;CN="MSECM Austria Martin Heger":MAILTO:events@msecm.at
LOCATION: Braunau
SUMMARY:OÖ Kinder- und Schülermannschaftswettkämpfe 2015
DESCRIPTION:
CLASS:PUBLIC
DTSTART:20150425T000000
DTEND:20150426T235959
DTSTAMP:20260422T070646 +0200
END:VEVENT
CALSCALE:GREGORIAN
END:VCALENDAR
