BEGIN:VCALENDAR
VERSION:2.0
PRODID:http://www.msecm.com
METHOD:PUBLISH
BEGIN:VEVENT
UID:5473601
ORGANIZER;CN="MSECM Austria Martin Heger":MAILTO:events@msecm.at
LOCATION:Drautalperle Spittal an der Drau
SUMMARY:Kärntner Hallenmeisterschaften 2015
DESCRIPTION:
CLASS:PUBLIC
DTSTART:20150228T000000
DTEND:20150301T235959
DTSTAMP:20260424T110218 +0200
END:VEVENT
CALSCALE:GREGORIAN
END:VCALENDAR
