BEGIN:VCALENDAR
VERSION:2.0
PRODID:http://www.msecm.com
METHOD:PUBLISH
BEGIN:VEVENT
UID:729640
ORGANIZER;CN="MSECM Austria Martin Heger":MAILTO:events@msecm.at
LOCATION:Erlebnisbad VIVAX Mürzzuschlag
SUMMARY:28. Trans-Semmering-Schwimmmeeting
DESCRIPTION:
CLASS:PUBLIC
DTSTART:20150425T000000
DTEND:20150425T235959
DTSTAMP:20260420T105008 +0200
END:VEVENT
CALSCALE:GREGORIAN
END:VCALENDAR
