BEGIN:VCALENDAR
VERSION:2.0
PRODID:http://www.msecm.com
METHOD:PUBLISH
BEGIN:VEVENT
UID:11552527
ORGANIZER;CN="MSECM Austria Martin Heger":MAILTO:events@msecm.at
LOCATION:Freibad Kapfenberg Kapfenberg
SUMMARY:9. Kapfenberger Kindermeeting
DESCRIPTION:
CLASS:PUBLIC
DTSTART:20150606T000000
DTEND:20150606T235959
DTSTAMP:20260424T110355 +0200
END:VEVENT
CALSCALE:GREGORIAN
END:VCALENDAR
