BEGIN:VCALENDAR
VERSION:2.0
PRODID:http://www.msecm.com
METHOD:PUBLISH
BEGIN:VEVENT
UID:850799
ORGANIZER;CN="MSECM Austria Martin Heger":MAILTO:events@msecm.at
LOCATION:Hallenbad Schwechat
SUMMARY:Int. SVS-Schwimmen Trophy
DESCRIPTION:<ul>     <li><a href="/events/svstrophy15/ausschreibung.pdf" target="_blank">Ausschreibung</a></li>     <li><a href="/events/svstrophy15/ausschreibung_en.pdf" target="_blank">Invitation</a></li>     <li><a href="/events/svstrophy15/ausschreibung_hu.pdf" target="_blank">Versenyki&iacuter&aacutes</a></li> </ul>
CLASS:PUBLIC
DTSTART:20151121T000000
DTEND:20151122T235959
DTSTAMP:20260422T025531 +0200
END:VEVENT
CALSCALE:GREGORIAN
END:VCALENDAR
