BEGIN:VCALENDAR
VERSION:2.0
PRODID:http://www.msecm.com
METHOD:PUBLISH
BEGIN:VEVENT
UID:12724233
ORGANIZER;CN="MSECM Austria Martin Heger":MAILTO:events@msecm.at
LOCATION: Vöcklabruck
SUMMARY:30. Vöcklabrucker Raiffeisenbankmeeting
DESCRIPTION:
CLASS:PUBLIC
DTSTART:20151121T000000
DTEND:20151122T235959
DTSTAMP:20260419T225038 +0200
END:VEVENT
CALSCALE:GREGORIAN
END:VCALENDAR
