BEGIN:VCALENDAR
VERSION:2.0
PRODID:http://www.msecm.com
METHOD:PUBLISH
BEGIN:VEVENT
UID:15149781
ORGANIZER;CN="MSECM Austria Martin Heger":MAILTO:events@msecm.at
LOCATION:Städtisches Sommerbad St. Pölten
SUMMARY:Festwochen-Schwimm-Meeting 2010
DESCRIPTION:
CLASS:PUBLIC
DTSTART:20100606T000000
DTEND:20100606T235959
DTSTAMP:20260422T063023 +0200
END:VEVENT
CALSCALE:GREGORIAN
END:VCALENDAR
